BEGIN:VCALENDAR
VERSION:2.0
PRODID:-//Squarespace Inc/Squarespace 6//v6//EN
BEGIN:VEVENT
UID:5de47f86c573c502d709cd8a@squarespace.com
DTSTAMP:20191215T050902Z
DTSTART:20191201T033000Z
DTEND:20200131T113000Z
SUMMARY:SUMMER SALE - Buy 3 GET one FREE
END:VEVENT
END:VCALENDAR
