BEGIN:VCALENDAR
VERSION:2.0
PRODID:-//Squarespace Inc/Squarespace 6//v6//EN
BEGIN:VEVENT
UID:5e321846d7315a3d7387c814@squarespace.com
DTSTAMP:20200130T004003Z
DTSTART:20200213T073000Z
DTEND:20200423T103000Z
SUMMARY:Ladies Social Climbing
GEO:-33.818446;151.189358
LOCATION:climb fit St Leonards
END:VEVENT
END:VCALENDAR
