BEGIN:VCALENDAR
VERSION:2.0
PRODID:-//Squarespace Inc/Squarespace 6//v6//EN
BEGIN:VEVENT
UID:5ddb6177ee3ebb607af56691@squarespace.com
DTSTAMP:20200225T232339Z
DTSTART:20200124T080000Z
DTEND:20200228T100000Z
SUMMARY:Friday Night Social Climbing
END:VEVENT
END:VCALENDAR
