BEGIN:VCALENDAR
VERSION:2.0
PRODID:-//Squarespace Inc/Squarespace 6//v6//EN
BEGIN:VEVENT
UID:5e55ac7b3d9b960eaedf8972@squarespace.com
DTSTAMP:20200225T232417Z
DTSTART:20200313T080000Z
DTEND:20200424T110000Z
SUMMARY:Friday Night Social Climbing 
END:VEVENT
END:VCALENDAR
