BEGIN:VCALENDAR
VERSION:2.0
PRODID:-//Squarespace Inc/Squarespace 6//v6//EN
BEGIN:VEVENT
UID:5e3f91fabab6ba3cfa2c4348@squarespace.com
DTSTAMP:20200226T232852Z
DTSTART:20200306T090000Z
DTEND:20200306T120000Z
SUMMARY:Pretty Strong Australian Premiere
END:VEVENT
END:VCALENDAR
