BEGIN:VCALENDAR
VERSION:2.0
PRODID:-//Squarespace Inc/Squarespace 6//v6//EN
BEGIN:VEVENT
UID:5df9924d2db4124abc5c1c8d@squarespace.com
DTSTAMP:20200225T232249Z
DTSTART:20200306T223000Z
DTEND:20200307T000000Z
SUMMARY:Introduction to Bouldering
END:VEVENT
END:VCALENDAR
