BEGIN:VCALENDAR
VERSION:2.0
PRODID:-//Squarespace Inc/Squarespace 6//v6//EN
BEGIN:VEVENT
UID:5df96f3544ef5328d8fc51ba@squarespace.com
DTSTAMP:20200207T043754Z
DTSTART:20200116T220000Z
DTEND:20200122T040000Z
SUMMARY:Holiday Kids CAMP - FULL
END:VEVENT
END:VCALENDAR
