BEGIN:VCALENDAR
VERSION:2.0
PRODID:-//Squarespace Inc/Squarespace 6//v6//EN
BEGIN:VEVENT
UID:5e588aa4f1b06058a515f78d@squarespace.com
DTSTAMP:20200228T034147Z
DTSTART:20200306T070000Z
DTEND:20200307T230000Z
SUMMARY:International Womens Day Workshops
END:VEVENT
END:VCALENDAR
