BEGIN:VCALENDAR
VERSION:2.0
PRODID:-//Squarespace Inc/Squarespace 6//v6//EN
BEGIN:VEVENT
UID:5e1e68dfc7a87d3abb4df05f@squarespace.com
DTSTAMP:20200209T045932Z
DTSTART:20200204T053000Z
DTEND:20200206T093000Z
SUMMARY:WALLSHARKS - Term 1
END:VEVENT
END:VCALENDAR
