BEGIN:VCALENDAR
VERSION:2.0
PRODID:-//Squarespace Inc/Squarespace 6//v6//EN
BEGIN:VEVENT
UID:5e49e10fdd42c458f361426a@squarespace.com
DTSTAMP:20200217T004224Z
DTSTART:20200313T070000Z
DTEND:20200313T083000Z
SUMMARY:Bouldering Clinic - Intermediate
END:VEVENT
END:VCALENDAR
