BEGIN:VCALENDAR
VERSION:2.0
PRODID:-//Squarespace Inc/Squarespace 6//v6//EN
BEGIN:VEVENT
UID:5dd73b11f43c174dfb114843@squarespace.com
DTSTAMP:20200224T093637Z
DTSTART:20191208T190000Z
DTEND:20200427T120000Z
SUMMARY:$10 Student Mondays
GEO:-33.816756;151.190903
LOCATION:Climbfit St Leonards
END:VEVENT
END:VCALENDAR
