BEGIN:VCALENDAR
VERSION:2.0
PRODID:-//Squarespace Inc/Squarespace 6//v6//EN
BEGIN:VEVENT
UID:5e155084dc85c857df9c9e9a@squarespace.com
DTSTAMP:20200216T071114Z
DTSTART:20200217T083000Z
DTEND:20200217T100000Z
SUMMARY:Monday Night Beginner Clinic - FEB - FULL
GEO:-33.818446;151.189358
LOCATION:climbfit St Leonards
END:VEVENT
END:VCALENDAR
