BEGIN:VCALENDAR
VERSION:2.0
PRODID:-//Squarespace Inc/Squarespace 6//v6//EN
BEGIN:VEVENT
UID:5e1555f61508dc7f6dbe6f13@squarespace.com
DTSTAMP:20200216T071038Z
DTSTART:20200205T083000Z
DTEND:20200205T100000Z
SUMMARY:Wednesday Night Beginner Clinic - FEB - FULL
GEO:-33.818446;151.189358
LOCATION:climbfit St Leonards
END:VEVENT
END:VCALENDAR
