BEGIN:VCALENDAR
VERSION:2.0
PRODID:-//Squarespace Inc/Squarespace 6//v6//EN
BEGIN:VEVENT
UID:5e264339e8e5303c3263821d@squarespace.com
DTSTAMP:20200219T205834Z
DTSTART:20200316T083000Z
DTEND:20200406T110000Z
SUMMARY:Introduction to Climbing - Mon 16th March - FULL
GEO:-33.818446;151.189358
LOCATION:climbfit St Leonards
END:VEVENT
END:VCALENDAR
