BEGIN:VCALENDAR
VERSION:2.0
PRODID:-//Squarespace Inc/Squarespace 6//v6//EN
BEGIN:VEVENT
UID:5e4da0fec5f027398ccd9dd4@squarespace.com
DTSTAMP:20200219T205809Z
DTSTART:20200304T083000Z
DTEND:20200325T100000Z
SUMMARY:Introduction to Climbing - Wed 4th March
GEO:-33.818446;151.189358
LOCATION:climbfit St Leonards
END:VEVENT
END:VCALENDAR
