BEGIN:VCALENDAR
VERSION:2.0
PRODID:-//Squarespace Inc/Squarespace 6//v6//EN
BEGIN:VEVENT
UID:5daea0ad940053095c9a6ce1@squarespace.com
DTSTAMP:20191022T062825Z
DTSTART:20191112T050000Z
DTEND:20191112T100000Z
SUMMARY:La Sportiva - Climb in Gym - St Leonards
END:VEVENT
END:VCALENDAR
