BEGIN:VCALENDAR
VERSION:2.0
PRODID:-//Squarespace Inc/Squarespace 6//v6//EN
BEGIN:VEVENT
UID:5daea5751d2c3845d441ae60@squarespace.com
DTSTAMP:20191023T001454Z
DTSTART:20191025T080000Z
DTEND:20191025T100000Z
SUMMARY:Friday Night Social Climbing
END:VEVENT
END:VCALENDAR
