BEGIN:VCALENDAR
VERSION:2.0
PRODID:-//Squarespace Inc/Squarespace 6//v6//EN
BEGIN:VEVENT
UID:5daf947cc6db7e222037f95b@squarespace.com
DTSTAMP:20191022T235408Z
DTSTART:20191027T190000Z
DTEND:20191028T110000Z
SUMMARY:STUDENT Mondays
END:VEVENT
END:VCALENDAR
