BEGIN:VCALENDAR
VERSION:2.0
PRODID:-//Squarespace Inc/Squarespace 6//v6//EN
BEGIN:VEVENT
UID:5daea1a12ed72b22d6f52b7d@squarespace.com
DTSTAMP:20191022T221339Z
DTSTART:20191029T073000Z
DTEND:20191029T093000Z
SUMMARY:Ladies Social Climb
END:VEVENT
END:VCALENDAR
